BEGIN:VCALENDAR
VERSION:2.0
PRODID:-//hacksw/handcal//NONSGML v1.0//EN
CALSCALE:GREGORIAN
BEGIN:VEVENT
UID:69e9d57297784
DTSTAMP:20260423T081650Z
DESCRIPTION:[W] Ohio Wesleyan University Women's Basketball at Ohio NorthernW 65-52Streaming Video: https://boxcast.tv/view/wbb-v-ohio-wesleyan-11-26-24-lq9mfv8aqtpeyblbltc0
SUMMARY:Ohio Wesleyan University Women's Basketball at Ohio Northern
DTSTART:20241126T190000Z
DTEND:20241126T210000Z
END:VEVENT
END:VCALENDAR
