BEGIN:VCALENDAR
VERSION:2.0
PRODID:-//hacksw/handcal//NONSGML v1.0//EN
CALSCALE:GREGORIAN
BEGIN:VEVENT
UID:69e95f6595ac8
DTSTAMP:20260422T235309Z
DESCRIPTION:[L] Ohio Wesleyan University Women's Basketball at Washington & JeffersonL 57-58Streaming Video: https://www.pacdigitalnetwork.com/presidents/?B=595796 https://www.battlingbishops.com/calendar.aspx?game_id=8663&amp\;sport_id=14
SUMMARY:Ohio Wesleyan University Women's Basketball at Washington & Jefferson
DTSTART:20231111T200000Z
DTEND:20231111T220000Z
END:VEVENT
END:VCALENDAR
