BEGIN:VCALENDAR
VERSION:2.0
PRODID:-//hacksw/handcal//NONSGML v1.0//EN
CALSCALE:GREGORIAN
BEGIN:VEVENT
UID:69ed7ecf98f00
DTSTAMP:20260426T025615Z
DESCRIPTION:[W] Ohio Wesleyan University Women's Basketball at WittenbergW 69-56Streaming Video: https://tigersportsnetwork.com/
SUMMARY:Ohio Wesleyan University Women's Basketball at Wittenberg
DTSTART:20250208T190000Z
DTEND:20250208T210000Z
END:VEVENT
END:VCALENDAR
