BEGIN:VCALENDAR
VERSION:2.0
PRODID:-//hacksw/handcal//NONSGML v1.0//EN
CALSCALE:GREGORIAN
BEGIN:VEVENT
UID:69e83a94c4eb6
DTSTAMP:20260422T030348Z
DESCRIPTION:Ohio Wesleyan University Women's Basketball vs consolation game
SUMMARY:Ohio Wesleyan University Women's Basketball vs consolation game
DTSTART:20241109T180000Z
DTEND:20241109T200000Z
END:VEVENT
END:VCALENDAR
