BEGIN:VCALENDAR
VERSION:2.0
PRODID:-//hacksw/handcal//NONSGML v1.0//EN
CALSCALE:GREGORIAN
BEGIN:VEVENT
UID:69ea22f94106c
DTSTAMP:20260423T134737Z
DESCRIPTION:[W] Ohio Wesleyan University Women's Basketball vs HiramW 77-40Streaming Video: https://www.northcoastnetwork.com/ohiowesleyan/
SUMMARY:Ohio Wesleyan University Women's Basketball vs Hiram
DTSTART:20241204T230000Z
DTEND:20241205T010000Z
END:VEVENT
END:VCALENDAR
