BEGIN:VCALENDAR
VERSION:2.0
PRODID:-//hacksw/handcal//NONSGML v1.0//EN
CALSCALE:GREGORIAN
BEGIN:VEVENT
UID:69e7d38eb756f
DTSTAMP:20260421T194414Z
DESCRIPTION:[W] Ohio Wesleyan University Women's Basketball vs Lake ErieW 85-55Streaming Video: https://www.northcoastnetwork.com/ohiowesleyan/ https://www.battlingbishops.com/calendar.aspx?game_id=8729&amp\;sport_id=14
SUMMARY:Ohio Wesleyan University Women's Basketball vs Lake Erie
DTSTART:20231206T000000Z
DTEND:20231206T020000Z
END:VEVENT
END:VCALENDAR
