BEGIN:VCALENDAR
VERSION:2.0
PRODID:-//hacksw/handcal//NONSGML v1.0//EN
CALSCALE:GREGORIAN
BEGIN:VEVENT
UID:69e8b69941e1e
DTSTAMP:20260422T115257Z
DESCRIPTION:[W] Ohio Wesleyan University Women's Basketball vs MariettaW 83-58Streaming Video: https://www.northcoastnetwork.com/ohiowesleyan/ https://www.battlingbishops.com/calendar.aspx?game_id=8664&amp\;sport_id=14
SUMMARY:Ohio Wesleyan University Women's Basketball vs Marietta
DTSTART:20231118T190000Z
DTEND:20231118T210000Z
END:VEVENT
END:VCALENDAR
