BEGIN:VCALENDAR
VERSION:2.0
PRODID:-//hacksw/handcal//NONSGML v1.0//EN
CALSCALE:GREGORIAN
BEGIN:VEVENT
UID:69e821e683f00
DTSTAMP:20260422T011830Z
DESCRIPTION:Ohio Wesleyan University Women's Basketball vs Marymount vs. Elizabethtown
SUMMARY:Ohio Wesleyan University Women's Basketball vs Marymount vs. Elizabethtown
DTSTART:20241109T000000Z
DTEND:20241109T020000Z
END:VEVENT
END:VCALENDAR
