BEGIN:VCALENDAR
VERSION:2.0
PRODID:-//hacksw/handcal//NONSGML v1.0//EN
CALSCALE:GREGORIAN
BEGIN:VEVENT
UID:69ecfbb0d0ff6
DTSTAMP:20260425T173648Z
DESCRIPTION:[W] Ohio Wesleyan University Women's Basketball vs OberlinW 76-44Streaming Video: https://www.northcoastnetwork.com/ohiowesleyan/
SUMMARY:Ohio Wesleyan University Women's Basketball vs Oberlin
DTSTART:20250201T180000Z
DTEND:20250201T200000Z
END:VEVENT
END:VCALENDAR
