BEGIN:VCALENDAR
VERSION:2.0
PRODID:-//hacksw/handcal//NONSGML v1.0//EN
CALSCALE:GREGORIAN
BEGIN:VEVENT
UID:69e88c906e9c5
DTSTAMP:20260422T085336Z
DESCRIPTION:[W] Ohio Wesleyan University Women's Basketball vs Ohio NorthernW 58-55Streaming Video: https://www.northcoastnetwork.com/ohiowesleyan/ https://www.battlingbishops.com/calendar.aspx?game_id=8665&amp\;sport_id=14
SUMMARY:Ohio Wesleyan University Women's Basketball vs Ohio Northern
DTSTART:20231121T210000Z
DTEND:20231121T230000Z
END:VEVENT
END:VCALENDAR
