BEGIN:VCALENDAR
VERSION:2.0
PRODID:-//hacksw/handcal//NONSGML v1.0//EN
CALSCALE:GREGORIAN
BEGIN:VEVENT
UID:69eb257523266
DTSTAMP:20260424T081029Z
DESCRIPTION:[W] Ohio Wesleyan University Women's Basketball vs Ohio NorthernW 63-38Streaming Video: https://www.northcoastnetwork.com/ohiowesleyan/
SUMMARY:Ohio Wesleyan University Women's Basketball vs Ohio Northern
DTSTART:20241231T170000Z
DTEND:20241231T190000Z
END:VEVENT
END:VCALENDAR
