BEGIN:VCALENDAR
VERSION:2.0
PRODID:-//hacksw/handcal//NONSGML v1.0//EN
CALSCALE:GREGORIAN
BEGIN:VEVENT
UID:69e971da65252
DTSTAMP:20260423T011154Z
DESCRIPTION:[W] Ohio Wesleyan University Women's Basketball vs Pitt-GreensburgW 98-29Streaming Video: https://www.pacdigitalnetwork.com/presidents/?B=595786 https://www.battlingbishops.com/calendar.aspx?game_id=8660&amp\;sport_id=14
SUMMARY:Ohio Wesleyan University Women's Basketball vs Pitt-Greensburg
DTSTART:20231110T230000Z
DTEND:20231111T010000Z
END:VEVENT
END:VCALENDAR
