BEGIN:VCALENDAR
VERSION:2.0
PRODID:-//hacksw/handcal//NONSGML v1.0//EN
CALSCALE:GREGORIAN
BEGIN:VEVENT
UID:69eaeab98624f
DTSTAMP:20260424T035953Z
DESCRIPTION:[L] Ohio Wesleyan University Women's Basketball vs Rhode Island CollegeL 42-48
SUMMARY:Ohio Wesleyan University Women's Basketball vs Rhode Island College
DTSTART:20241219T210000Z
DTEND:20241219T230000Z
END:VEVENT
END:VCALENDAR
