BEGIN:VCALENDAR
VERSION:2.0
PRODID:-//hacksw/handcal//NONSGML v1.0//EN
CALSCALE:GREGORIAN
BEGIN:VEVENT
UID:69eafb31ceb7a
DTSTAMP:20260424T051009Z
DESCRIPTION:[W] Ohio Wesleyan University Women's Basketball vs Southern MaineW 61-42
SUMMARY:Ohio Wesleyan University Women's Basketball vs Southern Maine
DTSTART:20241220T220000Z
DTEND:20241221T000000Z
END:VEVENT
END:VCALENDAR
