BEGIN:VCALENDAR
VERSION:2.0
PRODID:-//hacksw/handcal//NONSGML v1.0//EN
CALSCALE:GREGORIAN
BEGIN:VEVENT
UID:69e821b79750a
DTSTAMP:20260422T011743Z
DESCRIPTION:[W] Ohio Wesleyan University Women's Basketball vs WidenerW 66-35
SUMMARY:Ohio Wesleyan University Women's Basketball vs Widener
DTSTART:20241108T220000Z
DTEND:20241109T000000Z
END:VEVENT
END:VCALENDAR
