BEGIN:VCALENDAR
VERSION:2.0
PRODID:-//hacksw/handcal//NONSGML v1.0//EN
CALSCALE:GREGORIAN
BEGIN:VEVENT
UID:69eb90922f40d
DTSTAMP:20260424T154730Z
DESCRIPTION:[W] Ohio Wesleyan University Women's Basketball vs WittenbergW 77-59Streaming Video: https://www.northcoastnetwork.com/ohiowesleyan/
SUMMARY:Ohio Wesleyan University Women's Basketball vs Wittenberg
DTSTART:20250111T190000Z
DTEND:20250111T210000Z
END:VEVENT
END:VCALENDAR
