BEGIN:VCALENDAR
VERSION:2.0
PRODID:-//hacksw/handcal//NONSGML v1.0//EN
CALSCALE:GREGORIAN
BEGIN:VEVENT
UID:69ebf8ad9401f
DTSTAMP:20260424T231141Z
DESCRIPTION:[W] Ohio Wesleyan University Women's Basketball vs WoosterW 78-38Streaming Video: https://www.northcoastnetwork.com/ohiowesleyan/
SUMMARY:Ohio Wesleyan University Women's Basketball vs Wooster
DTSTART:20250118T180000Z
DTEND:20250118T200000Z
END:VEVENT
END:VCALENDAR
