BEGIN:VCALENDAR
VERSION:2.0
PRODID:-//hacksw/handcal//NONSGML v1.0//EN
CALSCALE:GREGORIAN
BEGIN:VEVENT
UID:69e852acee4fb
DTSTAMP:20260422T044636Z
DESCRIPTION:[N] Ohio Wesleyan University Women's Cross Country at All-Ohio Classic 3rd of 30Streaming Video: https://greatmidwestdigitalnetwork.com/cedarvilleuniversity/
SUMMARY:Ohio Wesleyan University Women's Cross Country at All-Ohio Classic
DTSTART:20240920T220000Z
DTEND:20240921T010000Z
END:VEVENT
END:VCALENDAR
