BEGIN:VCALENDAR
VERSION:2.0
PRODID:-//hacksw/handcal//NONSGML v1.0//EN
CALSCALE:GREGORIAN
BEGIN:VEVENT
UID:69eba4ef4c868
DTSTAMP:20260424T171423Z
DESCRIPTION:[N] Ohio Wesleyan University Women's Cross Country at Augustana Interregional Invitational 18th of 42 https://www.battlingbishops.com/calendar.aspx?game_id=8395&amp\;sport_id=15
SUMMARY:Ohio Wesleyan University Women's Cross Country at Augustana Interregional Invitational
DTSTART:20231014T164500Z
DTEND:20231014T194500Z
END:VEVENT
END:VCALENDAR
