BEGIN:VCALENDAR
VERSION:2.0
PRODID:-//hacksw/handcal//NONSGML v1.0//EN
CALSCALE:GREGORIAN
BEGIN:VEVENT
UID:69e984e4e68a1
DTSTAMP:20260423T023308Z
DESCRIPTION:[N] Ohio Wesleyan University Women's Cross Country at Denison Invitational 1st of 3
SUMMARY:Ohio Wesleyan University Women's Cross Country at Denison Invitational
DTSTART:20240906T220000Z
DTEND:20240907T010000Z
END:VEVENT
END:VCALENDAR
