BEGIN:VCALENDAR
VERSION:2.0
PRODID:-//hacksw/handcal//NONSGML v1.0//EN
CALSCALE:GREGORIAN
BEGIN:VEVENT
UID:69e8b6aedcfdd
DTSTAMP:20260422T115318Z
DESCRIPTION:Ohio Wesleyan University Women's Cross Country at NCAA Division III championship https://www.battlingbishops.com/calendar.aspx?game_id=8398&amp\;sport_id=15
SUMMARY:Ohio Wesleyan University Women's Cross Country at NCAA Division III championship
DTSTART:20231118T160000Z
DTEND:20231118T190000Z
END:VEVENT
END:VCALENDAR
