BEGIN:VCALENDAR
VERSION:2.0
PRODID:-//hacksw/handcal//NONSGML v1.0//EN
CALSCALE:GREGORIAN
BEGIN:VEVENT
UID:69e9ac76cd441
DTSTAMP:20260423T052158Z
DESCRIPTION:[N] Ohio Wesleyan University Women's Cross Country at NCAA Division III championshipStreaming Video: https://www.ncaa.com/liveschedule/2024/11/23
SUMMARY:Ohio Wesleyan University Women's Cross Country at NCAA Division III championship
DTSTART:20241123T160000Z
DTEND:20241123T190000Z
END:VEVENT
END:VCALENDAR
