BEGIN:VCALENDAR
VERSION:2.0
PRODID:-//hacksw/handcal//NONSGML v1.0//EN
CALSCALE:GREGORIAN
BEGIN:VEVENT
UID:69e95f652de11
DTSTAMP:20260422T235309Z
DESCRIPTION:[N] Ohio Wesleyan University Women's Cross Country at NCAA Division III Great Lakes Regional 11th of 40Streaming Video: https://jcusports.com/sports/2013/8/29/fan_0829130037.aspx?id=583 https://www.battlingbishops.com/calendar.aspx?game_id=8397&amp\;sport_id=15
SUMMARY:Ohio Wesleyan University Women's Cross Country at NCAA Division III Great Lakes Regional
DTSTART:20231111T170000Z
DTEND:20231111T200000Z
END:VEVENT
END:VCALENDAR
