BEGIN:VCALENDAR
VERSION:2.0
PRODID:-//hacksw/handcal//NONSGML v1.0//EN
CALSCALE:GREGORIAN
BEGIN:VEVENT
UID:69e909175b9ac
DTSTAMP:20260422T174455Z
DESCRIPTION:[N] Ohio Wesleyan University Women's Cross Country at NCAA Division III Great Lakes Regional 7th of 43
SUMMARY:Ohio Wesleyan University Women's Cross Country at NCAA Division III Great Lakes Regional
DTSTART:20241116T160000Z
DTEND:20241116T190000Z
END:VEVENT
END:VCALENDAR
