BEGIN:VCALENDAR
VERSION:2.0
PRODID:-//hacksw/handcal//NONSGML v1.0//EN
CALSCALE:GREGORIAN
BEGIN:VEVENT
UID:69ea8a63697f6
DTSTAMP:20260423T210851Z
DESCRIPTION:[N] Ohio Wesleyan University Women's Cross Country at NCAC championship 3rd of 8 https://www.battlingbishops.com/calendar.aspx?game_id=8396&amp\;sport_id=15
SUMMARY:Ohio Wesleyan University Women's Cross Country at NCAC championship
DTSTART:20231028T161500Z
DTEND:20231028T191500Z
END:VEVENT
END:VCALENDAR
