BEGIN:VCALENDAR
VERSION:2.0
PRODID:-//hacksw/handcal//NONSGML v1.0//EN
CALSCALE:GREGORIAN
BEGIN:VEVENT
UID:69e77f79ebaf1
DTSTAMP:20260421T134529Z
DESCRIPTION:[N] Ohio Wesleyan University Women's Cross Country at NCAC championship 3rd of 8Streaming Video: https://vimeo.com/event/4675783
SUMMARY:Ohio Wesleyan University Women's Cross Country at NCAC championship
DTSTART:20241103T160000Z
DTEND:20241103T190000Z
END:VEVENT
END:VCALENDAR
