BEGIN:VCALENDAR
VERSION:2.0
PRODID:-//hacksw/handcal//NONSGML v1.0//EN
CALSCALE:GREGORIAN
BEGIN:VEVENT
UID:69ea0ee3dddeb
DTSTAMP:20260423T122155Z
DESCRIPTION:[N] Ohio Wesleyan University Women's Cross Country at Port Kenyon Opener 1st of 5
SUMMARY:Ohio Wesleyan University Women's Cross Country at Port Kenyon Opener
DTSTART:20240830T230000Z
DTEND:20240831T020000Z
END:VEVENT
END:VCALENDAR
