BEGIN:VCALENDAR
VERSION:2.0
PRODID:-//hacksw/handcal//NONSGML v1.0//EN
CALSCALE:GREGORIAN
BEGIN:VEVENT
UID:69ecd01e144ad
DTSTAMP:20260425T143054Z
DESCRIPTION:[N] Ohio Wesleyan University Women's Cross Country vs OWU Invitational 3rd of 17 https://www.battlingbishops.com/calendar.aspx?game_id=8394&amp\;sport_id=15
SUMMARY:Ohio Wesleyan University Women's Cross Country vs OWU Invitational
DTSTART:20230929T224500Z
DTEND:20230930T014500Z
END:VEVENT
END:VCALENDAR
