BEGIN:VCALENDAR
VERSION:2.0
PRODID:-//hacksw/handcal//NONSGML v1.0//EN
CALSCALE:GREGORIAN
BEGIN:VEVENT
UID:69eca6db650a7
DTSTAMP:20260425T113451Z
DESCRIPTION:[N] Ohio Wesleyan University Women's Golf at Eva Shorb Weiskopf Invitational first round https://www.battlingbishops.com/calendar.aspx?game_id=8509&amp\;sport_id=16
SUMMARY:Ohio Wesleyan University Women's Golf at Eva Shorb Weiskopf Invitational
DTSTART:20231001
DTEND:20231001
END:VEVENT
END:VCALENDAR
