BEGIN:VCALENDAR
VERSION:2.0
PRODID:-//hacksw/handcal//NONSGML v1.0//EN
CALSCALE:GREGORIAN
BEGIN:VEVENT
UID:69e8c9bd00103
DTSTAMP:20260422T131437Z
DESCRIPTION:[N] Ohio Wesleyan University Women's Golf at JCU Donald Ross Invitational first round
SUMMARY:Ohio Wesleyan University Women's Golf at JCU Donald Ross Invitational
DTSTART:20240915
DTEND:20240915
END:VEVENT
END:VCALENDAR
