BEGIN:VCALENDAR
VERSION:2.0
PRODID:-//hacksw/handcal//NONSGML v1.0//EN
CALSCALE:GREGORIAN
BEGIN:VEVENT
UID:69e8b6a051be0
DTSTAMP:20260422T115304Z
DESCRIPTION:[N] Ohio Wesleyan University Women's Golf at JCU Donald Ross Invitational 6th of 7
SUMMARY:Ohio Wesleyan University Women's Golf at JCU Donald Ross Invitational
DTSTART:20240916
DTEND:20240916
END:VEVENT
END:VCALENDAR
