BEGIN:VCALENDAR
VERSION:2.0
PRODID:-//hacksw/handcal//NONSGML v1.0//EN
CALSCALE:GREGORIAN
BEGIN:VEVENT
UID:69e95f0bcb5a8
DTSTAMP:20260422T235139Z
DESCRIPTION:[N] Ohio Wesleyan University Women's Golf at Manchester Fall Invite 2nd place
SUMMARY:Ohio Wesleyan University Women's Golf at Manchester Fall Invite
DTSTART:20240908
DTEND:20240908
END:VEVENT
END:VCALENDAR
