BEGIN:VCALENDAR
VERSION:2.0
PRODID:-//hacksw/handcal//NONSGML v1.0//EN
CALSCALE:GREGORIAN
BEGIN:VEVENT
UID:69ed249c01980
DTSTAMP:20260425T203124Z
DESCRIPTION:[N] Ohio Wesleyan University Women's Golf at NCAC championship first round https://www.battlingbishops.com/calendar.aspx?game_id=8807&amp\;sport_id=16
SUMMARY:Ohio Wesleyan University Women's Golf at NCAC championship
DTSTART:20240503T173000Z
DTEND:20240503T203000Z
END:VEVENT
END:VCALENDAR
