BEGIN:VCALENDAR
VERSION:2.0
PRODID:-//hacksw/handcal//NONSGML v1.0//EN
CALSCALE:GREGORIAN
BEGIN:VEVENT
UID:69ed0a42b5699
DTSTAMP:20260425T183858Z
DESCRIPTION:[N] Ohio Wesleyan University Women's Golf at NCAC championship second round https://www.battlingbishops.com/calendar.aspx?game_id=8958&amp\;sport_id=16
SUMMARY:Ohio Wesleyan University Women's Golf at NCAC championship
DTSTART:20240504T162000Z
DTEND:20240504T192000Z
END:VEVENT
END:VCALENDAR
