BEGIN:VCALENDAR
VERSION:2.0
PRODID:-//hacksw/handcal//NONSGML v1.0//EN
CALSCALE:GREGORIAN
BEGIN:VEVENT
UID:69ecf8c3d60cd
DTSTAMP:20260425T172419Z
DESCRIPTION:[N] Ohio Wesleyan University Women's Golf at NCAC championship 5th of 5 https://www.battlingbishops.com/calendar.aspx?game_id=8959&amp\;sport_id=16
SUMMARY:Ohio Wesleyan University Women's Golf at NCAC championship
DTSTART:20240505T161000Z
DTEND:20240505T191000Z
END:VEVENT
END:VCALENDAR
