BEGIN:VCALENDAR
VERSION:2.0
PRODID:-//hacksw/handcal//NONSGML v1.0//EN
CALSCALE:GREGORIAN
BEGIN:VEVENT
UID:69e9d52b6a4b8
DTSTAMP:20260423T081539Z
DESCRIPTION:[N] Ohio Wesleyan University Women's Golf at ONU Fall Invitational first round
SUMMARY:Ohio Wesleyan University Women's Golf at ONU Fall Invitational
DTSTART:20240901
DTEND:20240901
END:VEVENT
END:VCALENDAR
