BEGIN:VCALENDAR
VERSION:2.0
PRODID:-//hacksw/handcal//NONSGML v1.0//EN
CALSCALE:GREGORIAN
BEGIN:VEVENT
UID:69e9bffc372b3
DTSTAMP:20260423T064516Z
DESCRIPTION:[N] Ohio Wesleyan University Women's Golf at ONU Fall Invitational 4th of 7
SUMMARY:Ohio Wesleyan University Women's Golf at ONU Fall Invitational
DTSTART:20240902
DTEND:20240902
END:VEVENT
END:VCALENDAR
