BEGIN:VCALENDAR
VERSION:2.0
PRODID:-//hacksw/handcal//NONSGML v1.0//EN
CALSCALE:GREGORIAN
BEGIN:VEVENT
UID:69eb8c9ab50cc
DTSTAMP:20260424T153034Z
DESCRIPTION:[N] Ohio Wesleyan University Women's Golf at Wittenberg Fall Classic first round https://www.battlingbishops.com/calendar.aspx?game_id=8505&amp\;sport_id=16
SUMMARY:Ohio Wesleyan University Women's Golf at Wittenberg Fall Classic
DTSTART:20231015
DTEND:20231015
END:VEVENT
END:VCALENDAR
