BEGIN:VCALENDAR
VERSION:2.0
PRODID:-//hacksw/handcal//NONSGML v1.0//EN
CALSCALE:GREGORIAN
BEGIN:VEVENT
UID:69eb76b6aadaa
DTSTAMP:20260424T135710Z
DESCRIPTION:[N] Ohio Wesleyan University Women's Golf at Wittenberg Fall Classic 9th of 9 https://www.battlingbishops.com/calendar.aspx?game_id=8506&amp\;sport_id=16
SUMMARY:Ohio Wesleyan University Women's Golf at Wittenberg Fall Classic
DTSTART:20231016
DTEND:20231016
END:VEVENT
END:VCALENDAR
