BEGIN:VCALENDAR
VERSION:2.0
PRODID:-//hacksw/handcal//NONSGML v1.0//EN
CALSCALE:GREGORIAN
BEGIN:VEVENT
UID:69e7965695272
DTSTAMP:20260421T152302Z
DESCRIPTION:[L] Ohio Wesleyan University Women's Golf at WoosterL 375-326
SUMMARY:Ohio Wesleyan University Women's Golf at Wooster
DTSTART:20240928
DTEND:20240928
END:VEVENT
END:VCALENDAR
