BEGIN:VCALENDAR
VERSION:2.0
PRODID:-//hacksw/handcal//NONSGML v1.0//EN
CALSCALE:GREGORIAN
BEGIN:VEVENT
UID:69ed4e906878f
DTSTAMP:20260425T233024Z
DESCRIPTION:[L] Ohio Wesleyan University Women's Lacrosse vs KenyonL 9-16Streaming Video: https://www.northcoastnetwork.com/ohiowesleyan/ https://www.battlingbishops.com/calendar.aspx?game_id=8859&amp\;sport_id=17
SUMMARY:Ohio Wesleyan University Women's Lacrosse vs Kenyon
DTSTART:20240501T230000Z
DTEND:20240502T020000Z
END:VEVENT
END:VCALENDAR
