BEGIN:VCALENDAR
VERSION:2.0
PRODID:-//hacksw/handcal//NONSGML v1.0//EN
CALSCALE:GREGORIAN
BEGIN:VEVENT
UID:69ed0a866e520
DTSTAMP:20260425T184006Z
DESCRIPTION:Ohio Wesleyan University Women's Lacrosse vs NCAC tournament championship https://www.battlingbishops.com/calendar.aspx?game_id=8860&amp\;sport_id=17
SUMMARY:Ohio Wesleyan University Women's Lacrosse vs NCAC tournament championship
DTSTART:20240504
DTEND:20240504
END:VEVENT
END:VCALENDAR
