BEGIN:VCALENDAR
VERSION:2.0
PRODID:-//hacksw/handcal//NONSGML v1.0//EN
CALSCALE:GREGORIAN
BEGIN:VEVENT
UID:69e85af894a4c
DTSTAMP:20260422T052200Z
DESCRIPTION:[W] Ohio Wesleyan University Women's Lacrosse vs TransylvaniaW 11-6Streaming Video: https://portal.stretchinternet.com/owu/ For more information: https://www.battlingbishops.com/calendar.aspx?id=7626
SUMMARY:Ohio Wesleyan University Women's Lacrosse vs Transylvania
DTSTART:20220402T190000Z
DTEND:20220402T220000Z
END:VEVENT
END:VCALENDAR
