BEGIN:VCALENDAR
VERSION:2.0
PRODID:-//hacksw/handcal//NONSGML v1.0//EN
CALSCALE:GREGORIAN
BEGIN:VEVENT
UID:69e878421940b
DTSTAMP:20260422T072658Z
DESCRIPTION:[W] Ohio Wesleyan University Women's Soccer at Baldwin WallaceW 1-0Streaming Video: https://fan.hudl.com/usa/oh/berea/organization/6609/baldwin-wallace/watch?ib=1304615
SUMMARY:Ohio Wesleyan University Women's Soccer at Baldwin Wallace
DTSTART:20240918T230000Z
DTEND:20240919T010000Z
END:VEVENT
END:VCALENDAR
