BEGIN:VCALENDAR
VERSION:2.0
PRODID:-//hacksw/handcal//NONSGML v1.0//EN
CALSCALE:GREGORIAN
BEGIN:VEVENT
UID:69e767ff4bd92
DTSTAMP:20260421T120519Z
DESCRIPTION:[L] Ohio Wesleyan University Women's Soccer at Case ReserveL 0-1Streaming Video: https://athletics.case.edu/sports/2023/7/31/cwru-womens-soccer-live-video.aspx
SUMMARY:Ohio Wesleyan University Women's Soccer at Case Reserve
DTSTART:20240930T233000Z
DTEND:20241001T013000Z
END:VEVENT
END:VCALENDAR
