BEGIN:VCALENDAR
VERSION:2.0
PRODID:-//hacksw/handcal//NONSGML v1.0//EN
CALSCALE:GREGORIAN
BEGIN:VEVENT
UID:69e767ff84c0f
DTSTAMP:20260421T120519Z
DESCRIPTION:[L] Ohio Wesleyan University Women's Soccer at DenisonL 0-3Streaming Video: https://www.northcoastnetwork.com/denison/
SUMMARY:Ohio Wesleyan University Women's Soccer at Denison
DTSTART:20241102T170000Z
DTEND:20241102T190000Z
END:VEVENT
END:VCALENDAR
