BEGIN:VCALENDAR
VERSION:2.0
PRODID:-//hacksw/handcal//NONSGML v1.0//EN
CALSCALE:GREGORIAN
BEGIN:VEVENT
UID:69ebcb55c2d56
DTSTAMP:20260424T195813Z
DESCRIPTION:[W] Ohio Wesleyan University Women's Soccer at HiramW 4-1Streaming Video: https://vcloud.blueframetech.com/broadcast/embed/616693 https://www.battlingbishops.com/calendar.aspx?game_id=8441&amp\;sport_id=18
SUMMARY:Ohio Wesleyan University Women's Soccer at Hiram
DTSTART:20231011T230000Z
DTEND:20231012T010000Z
END:VEVENT
END:VCALENDAR
