BEGIN:VCALENDAR
VERSION:2.0
PRODID:-//hacksw/handcal//NONSGML v1.0//EN
CALSCALE:GREGORIAN
BEGIN:VEVENT
UID:69e7aa2bc20c5
DTSTAMP:20260421T164739Z
DESCRIPTION:[L] Ohio Wesleyan University Women's Soccer at HopeL 0-1Streaming Video: https://www.youtube.com/hopeathletics
SUMMARY:Ohio Wesleyan University Women's Soccer at Hope
DTSTART:20240927T200000Z
DTEND:20240927T220000Z
END:VEVENT
END:VCALENDAR
