BEGIN:VCALENDAR
VERSION:2.0
PRODID:-//hacksw/handcal//NONSGML v1.0//EN
CALSCALE:GREGORIAN
BEGIN:VEVENT
UID:69ed20e8dcccd
DTSTAMP:20260425T201536Z
DESCRIPTION:[L] Ohio Wesleyan University Women's Soccer at John CarrollL 0-1Streaming Video: https://jcusports.com/sports/2013/8/29/fan_0829130037.aspx?id=583 https://www.battlingbishops.com/calendar.aspx?game_id=8438&amp\;sport_id=18
SUMMARY:Ohio Wesleyan University Women's Soccer at John Carroll
DTSTART:20230926T230000Z
DTEND:20230927T010000Z
END:VEVENT
END:VCALENDAR
