BEGIN:VCALENDAR
VERSION:2.0
PRODID:-//hacksw/handcal//NONSGML v1.0//EN
CALSCALE:GREGORIAN
BEGIN:VEVENT
UID:69e8374ba2a84
DTSTAMP:20260422T024947Z
DESCRIPTION:Ohio Wesleyan University Women's Soccer at NCAC tournament championship
SUMMARY:Ohio Wesleyan University Women's Soccer at NCAC tournament championship
DTSTART:20241109
DTEND:20241109
END:VEVENT
END:VCALENDAR
